Workbook

Sheet BDC
E2: NOM DU CLIENT :
E3: ADRESSE DE FACTURATION :
E4: CODE POSTAL :
E5: VILLE :
E6: TELEPHONE :
E7: NOM DU RESPONSABLE :
E8: EMAIL :
E9: SIRET :
D10: Date :
C11: Votre Commerciale : | E11: Shalini LEDOUX - 06 09 38 93 76 shalini@kerali.fr
D12: LIGNE REVENTE
C14: REF | D14: QUANTITE | E14: PRODUITS | F14: CONTENANCE | G14: PRIX A L'UNITE HT | H14: TOTAL HT | I14: PRIX PUBLIC TTC | J14: Tarif web 2026
E15: REVENTE VISAGE | G15: Px achat HT | I15: Px Public institut
C16: HV001 | E16: LAIT ACTI PURIFIANT * | F16: 150 ML | G16: 17.23 | H16: =Tableau1111929166641546627480[[#This Row],[PRIX A L''UNITE HT]]*Tableau1111929166641546627480[[#This Row],[QUANTITE]] -> 0 | I16: 34.5 | J16: 37
C17: HV003 | E17: INDIAN SACRÉ* | F17: 100 ML | G17: 13.96 | H17: =Tableau1111929166641546627480[[#This Row],[PRIX A L''UNITE HT]]*Tableau1111929166641546627480[[#This Row],[QUANTITE]] -> 0 | I17: 28 | J17: 29
C18: SV001 | E18: CREME PHYSIO PLANTES * | F18: 50 ML | G18: 29.11 | H18: =Tableau1111929166641546627480[[#This Row],[PRIX A L''UNITE HT]]*Tableau1111929166641546627480[[#This Row],[QUANTITE]] -> 0 | I18: 58 | J18: 64
C19: SV101 | E19: MINI CREME PHYSIO-PLANTES* | F19: 15 ML | G19: 14.9 | H19: =Tableau1111929166641546627480[[#This Row],[PRIX A L''UNITE HT]]*Tableau1111929166641546627480[[#This Row],[QUANTITE]] -> 0 | I19: =Tableau1111929166641546627480[[#This Row],[PRIX A L''UNITE HT]]*2 -> 29.8 | J19: 32
C20: SV002 | E20: CREME HYDRA PLANTES | F20: 50 ML | G20: 29.11 | H20: =Tableau1111929166641546627480[[#This Row],[PRIX A L''UNITE HT]]*Tableau1111929166641546627480[[#This Row],[QUANTITE]] -> 0 | I20: 58 | J20: 64
C21: SV102 | E21: MINI CREME HYDRA-PLANTES* | F21: 15 ML | G21: 14.9 | H21: =Tableau1111929166641546627480[[#This Row],[PRIX A L''UNITE HT]]*Tableau1111929166641546627480[[#This Row],[QUANTITE]] -> 0 | I21: =Tableau1111929166641546627480[[#This Row],[PRIX A L''UNITE HT]]*2 -> 29.8 | J21: 32
C22: SV003 | E22: SERUM REPULPANT * | F22: 15 ML | G22: 25.25 | H22: =Tableau1111929166641546627480[[#This Row],[PRIX A L''UNITE HT]]*Tableau1111929166641546627480[[#This Row],[QUANTITE]] -> 0 | I22: 50 | J22: 56
C23: SV010 | E23: SEVE AYURVEDIQUE * | F23: 30 ML | G23: 21.98 | H23: =Tableau1111929166641546627480[[#This Row],[PRIX A L''UNITE HT]]*Tableau1111929166641546627480[[#This Row],[QUANTITE]] -> 0 | I23: 44 | J23: 52
C24: SV030 | E24: MASQUE ROSES POUDREES - px normales à sèches | F24: 60G | G24: 11.23 | H24: =Tableau1111929166641546627480[[#This Row],[PRIX A L''UNITE HT]]*Tableau1111929166641546627480[[#This Row],[QUANTITE]] -> 0 | I24: 22.5 | J24: 25
C25: SV020 | E25: MASQUE TULSI SACRÉ - Px normales à mixtes | F25: 60G | G25: 12.47 | H25: =Tableau1111929166641546627480[[#This Row],[PRIX A L''UNITE HT]]*Tableau1111929166641546627480[[#This Row],[QUANTITE]] -> 0 | I25: 18.9 | J25: 25
C26: SV040 | E26: MASQUE CREME BRAHMINDIA - Px sensibles et sèches | F26: 50ml | G26: 13.07 | H26: =Tableau1111929166641546627480[[#This Row],[PRIX A L''UNITE HT]]*Tableau1111929166641546627480[[#This Row],[QUANTITE]] -> 0 | I26: 26 | J26: 27
C27: CV050 | E27: COFFRET RITUEL NAMASTE 3 SOINS HYDRA - Visage | F27: 1 Acti-Purifiant15 ml + 1 Indian Sacré 30 ml + 1 Hydra-Plantes15ml | G27: 23.17 | H27: =Tableau1111929166641546627480[[#This Row],[PRIX A L''UNITE HT]]*Tableau1111929166641546627480[[#This Row],[QUANTITE]] -> 0 | I27: 46 | J27: 54
C28: CV051 | E28: COFFRET RITUEL NAMASKAR 3 SOINS PHYSIO - Visage | F28: 1 Acti-Purifiant15 ml+1 Indian Sacré 30 ml+1 Physio-Plantes 15ml | G28: 23.17 | H28: =Tableau1111929166641546627480[[#This Row],[PRIX A L''UNITE HT]]*Tableau1111929166641546627480[[#This Row],[QUANTITE]] -> 0 | I28: 46 | J28: 54
C29: CV052 | E29: Miniature Lotion spray INDIAN SACRE | F29: 30ml | G29: 6.5 | H29: =Tableau1111929166641546627480[[#This Row],[PRIX A L''UNITE HT]]*Tableau1111929166641546627480[[#This Row],[QUANTITE]] -> 0 | I29: =Tableau1111929166641546627480[[#This Row],[PRIX A L''UNITE HT]]*2 -> 13 | J29: =Tableau1111929166641546627480[[#This Row],[PRIX PUBLIC TTC]]*20/100+Tableau1111929166641546627480[[#This Row],[PRIX PUBLIC TTC]] -> 15.6
C30: SV050 | E30: KUNKUMADHI OLEO-SERUM | F30: 5ml | G30: 15.39 | H30: =Tableau1111929166641546627480[[#This Row],[PRIX A L''UNITE HT]]*Tableau1111929166641546627480[[#This Row],[QUANTITE]] -> 0 | I30: 31 | J30: 35
C31: SV070 | E31: ELIXIR PIERRE - bâton de massage et roll-on / Quartz Rose / Vata | G31: 48.5 | H31: =Tableau1111929166641546627480[[#This Row],[PRIX A L''UNITE HT]]*Tableau1111929166641546627480[[#This Row],[QUANTITE]] -> 0 | I31: =Tableau1111929166641546627480[[#This Row],[PRIX A L''UNITE HT]]*2 -> 97 | J31: 110
C32: SV071 | E32: ELIXIR PIERRE - bâton de massage et roll-on / Fluorite verte / Pitta | G32: 48.5 | H32: =Tableau1111929166641546627480[[#This Row],[PRIX A L''UNITE HT]]*Tableau1111929166641546627480[[#This Row],[QUANTITE]] -> 0 | I32: =Tableau1111929166641546627480[[#This Row],[PRIX A L''UNITE HT]]*2 -> 97 | J32: 110
C33: SV071 | E33: ELIXIR PIERRE - bâton de massage et roll-on / Quartz Blanc / Kapha | G33: 48.5 | H33: =Tableau1111929166641546627480[[#This Row],[PRIX A L''UNITE HT]]*Tableau1111929166641546627480[[#This Row],[QUANTITE]] -> 0 | I33: 97 | J33: 110
C34: SV072 | E34: COFFRET VISAGE HOLI'ROSES - IS, HP, CONCRÈTE, GUA SHA | G34: 52.5 | H34: =Tableau1111929166641546627480[[#This Row],[PRIX A L''UNITE HT]]*Tableau1111929166641546627480[[#This Row],[QUANTITE]] -> 0 | I34: 106 | J34: 110
E35: REVENTE CORPS
C36: SC002 | E36: SOIN COCOONING MAINS * | F36: 15 ML | G36: 7.2 | H36: =Tableau1111929166641546627480[[#This Row],[PRIX A L''UNITE HT]]*Tableau1111929166641546627480[[#This Row],[QUANTITE]] -> 0 | I36: 14.5 | J36: 16
C37: SC001 | E37: SOIN COCOONING CORPS * | F37: 150 ML | G37: 26.73 | H37: =Tableau1111929166641546627480[[#This Row],[PRIX A L''UNITE HT]]*Tableau1111929166641546627480[[#This Row],[QUANTITE]] -> 0 | I37: 53.5 | J37: 59
C38: SV011 | E38: HUILE TRIKAYA Corps & Cheveux - Toute peaux / Tridoshas * | F38: 150 ML | G38: 15.44 | H38: =Tableau1111929166641546627480[[#This Row],[PRIX A L''UNITE HT]]*Tableau1111929166641546627480[[#This Row],[QUANTITE]] -> 0 | I38: 31 | J38: 37
C39: SC012 | E39: HUILE PIYALI Corps & Cheveux - Peaux sensibles / Pitta | F39: 150 ML | G39: 17.23 | H39: =Tableau1111929166641546627480[[#This Row],[PRIX A L''UNITE HT]]*Tableau1111929166641546627480[[#This Row],[QUANTITE]] -> 0 | I39: 34.5 | J39: 37
C40: HA001 | E40: SPRAY HASTA AYURVEDA mains | F40: 100 ML | G40: 7.72 | H40: =Tableau1111929166641546627480[[#This Row],[PRIX A L''UNITE HT]]*Tableau1111929166641546627480[[#This Row],[QUANTITE]] -> 0 | I40: 15.5 | J40: 21.9
C41: HA002 | E41: MINI-SPRAY HASTA-AYURVEDA mains | F41: 30 ML | G41: 4.1 | H41: =Tableau1111929166641546627480[[#This Row],[PRIX A L''UNITE HT]]*Tableau1111929166641546627480[[#This Row],[QUANTITE]] -> 0 | I41: 8 | J41: 10.9
C42: HA002 | E42: KIT DETOX AYURVEDIQUE CUIVRE (Gobelet, cure-langue, notice, pochette) | F42: 3 pieces | G42: 16.74 | H42: =Tableau1111929166641546627480[[#This Row],[PRIX A L''UNITE HT]]*Tableau1111929166641546627480[[#This Row],[QUANTITE]] -> 0 | I42: 33.5 | J42: 37
...
